BEGIN:VCALENDAR
VERSION:2.0
PRODID:-//Minnesota Trout Unlimited - ECPv6.15.20//NONSGML v1.0//EN
CALSCALE:GREGORIAN
METHOD:PUBLISH
X-ORIGINAL-URL:https://mntu.org
X-WR-CALDESC:Events for Minnesota Trout Unlimited
REFRESH-INTERVAL;VALUE=DURATION:PT1H
X-Robots-Tag:noindex
X-PUBLISHED-TTL:PT1H
BEGIN:VTIMEZONE
TZID:UTC
BEGIN:STANDARD
TZOFFSETFROM:+0000
TZOFFSETTO:+0000
TZNAME:UTC
DTSTART:20230101T000000
END:STANDARD
END:VTIMEZONE
BEGIN:VEVENT
DTSTART;TZID=UTC:20240513T180000
DTEND;TZID=UTC:20240513T200000
DTSTAMP:20260421T045938
CREATED:20240422T150428Z
LAST-MODIFIED:20240422T150428Z
UID:2722-1715623200-1715630400@mntu.org
SUMMARY:Hiawatha Chapter Roadside Clean-Up
DESCRIPTION:It’s time to pick up trash and find more Lite beer cans along U.S. 52 south of Chatfield! \nHiawatha TU will meet at the parking lot just beyond the Root River bridge at 6 p.m. May 13 (May 14 for rain date). We usually get about a dozen volunteers. This year\, MNDOT said that all volunteers must be updated on tetanus shots (being anglers\, I’m guessing most of us have those shots). \nAlso\, we need to watch a safety video. Here is the URL:\nhttps://www.dot.state.mn.us/adopt/safety-parking.html \nI watched it and it’s mostly common-sense things but also it tells us what to do if we find hazardous waste etc. It’s worth watching. \nPlease email John Weiss weiss239@gmail.com to let him know how many are coming. \nHe’ll being some cookies etc. Bring your own water or whatever.\nAs you know\, wear stout boots\, and bring good gloves. John will have bags and safety vests.\nIf we can get a dozen or so volunteers\, we only need maybe 1.5 hours to do it.
URL:https://mntu.org/event/hiawatha-chapter-roadside-clean-up/
END:VEVENT
END:VCALENDAR