BEGIN:VCALENDAR
VERSION:2.0
PRODID:-//Minnesota Trout Unlimited - ECPv6.15.20//NONSGML v1.0//EN
CALSCALE:GREGORIAN
METHOD:PUBLISH
X-WR-CALNAME:Minnesota Trout Unlimited
X-ORIGINAL-URL:https://mntu.org
X-WR-CALDESC:Events for Minnesota Trout Unlimited
REFRESH-INTERVAL;VALUE=DURATION:PT1H
X-Robots-Tag:noindex
X-PUBLISHED-TTL:PT1H
BEGIN:VTIMEZONE
TZID:UTC
BEGIN:STANDARD
TZOFFSETFROM:+0000
TZOFFSETTO:+0000
TZNAME:UTC
DTSTART:20230101T000000
END:STANDARD
END:VTIMEZONE
BEGIN:VEVENT
DTSTART;TZID=UTC:20240601T090000
DTEND;TZID=UTC:20240601T120000
DTSTAMP:20260421T035105
CREATED:20240503T155001Z
LAST-MODIFIED:20240503T155001Z
UID:2744-1717232400-1717243200@mntu.org
SUMMARY:Vermillion River-Kummer AMA Habitat Day!
DESCRIPTION:This event is part of TCTU’s Vermillion River Initiative-a focus on protecting and enhancing this cold water stream so near to the Twin Cities! \nJoin us as we help the DNR continue to restore the Vermillion River & this AMA for wildlife! \nWe will be: \n-Removing buckthorn\, other invasive species and boxelders\n-Dragging and dropping the brush into piles\n-Picking up any trash we find \nBring heavy work gloves and a willingness to work hard. \nThere won’t be any in-water work\, but we’ll be able to keep our eyes open for trout! \nIn case this is cancelled\, the back-up day will be June 8\, same time and place. \nRegistration will close 24 hours before the event so we can get an accurate headcount
URL:https://mntu.org/event/vermillion-river-kummer-ama-habitat-day/
LOCATION:DNR Vermillion River Aquatic Management Area (AMA)-Kummer \, Hastings\, Minnesota
CATEGORIES:Habitat Volunteers
END:VEVENT
END:VCALENDAR